BEGIN:VCALENDAR
VERSION:2.0
PRODID:-//hacksw/handcal//NONSGML v1.0//EN
CALSCALE:GREGORIAN
BEGIN:VEVENT
DTSTART:20211113T111500
DTEND:20211113T114500
UID:69e58f3cb9030
DTSTAMP:20260420T022812
LOCATION:Maison des Arts et des Etudiants\, av. de la Fonte\, 4362 Esch-sur-Alzette
DESCRIPTION:
SUMMARY:SIDE TRACK: How to boost space innovation\, powered by SnT/University of Luxembourg
END:VEVENT
END:VCALENDAR

