BEGIN:VCALENDAR
VERSION:2.0
PRODID:-//hacksw/handcal//NONSGML v1.0//EN
CALSCALE:GREGORIAN
BEGIN:VEVENT
DTSTART:20211113T104500
DTEND:20211113T110500
UID:69e58d1494f8e
DTSTAMP:20260420T021900
LOCATION:Maison des Arts et des Etudiants\, av. de la Fonte\, 4362 Esch-sur-Alzette
DESCRIPTION:
SUMMARY:Keynote: New Technologies for mobility. Non Terrestrial Network - From Technology Radar to BMW cars?!  
END:VEVENT
END:VCALENDAR

